BEGIN:VCALENDAR
PRODID:-//eluceo/ical//2.0/EN
VERSION:2.0
CALSCALE:GREGORIAN
BEGIN:VEVENT
UID:3f01dbe4f8ea4a7fd16e3c4b92dbd4b1
DTSTAMP:20260420T221338Z
SUMMARY:TEMPLE SINAI FAMILIES & SCHOOL Sukkah to the Stars
DESCRIPTION:UJA Federation of Greater Toronto\nJewish Toronto Calendar\nhtt
 ps://jewishtoronto.com/calendar/temple-sinai-families--school-sukkah-to-th
 e-stars-1695150146\n\nTEMPLE SINAI FAMILIES & SCHOOL Sukkah to the Stars S
 unday\, October 1\, 2023 10.00 a.m. to 12.00 p.m.You bring your Sukkot rua
 ch (Hebrew for spirit) and we’ll provide the hands-on fun! With six enga
 ging stations for children of all ages\, young artists can design cards fo
 r the family and a special Sukkot star\, while we make paper chains to han
 g and display. Junior engineers can build their own little sukkah at our b
 uilding station\, and little scientists can immerse themselves at our disc
 overy ...
DTSTART;TZID=America/Toronto:20231001T100000
DTEND;TZID=America/Toronto:20231001T120000
END:VEVENT
END:VCALENDAR
