BEGIN:VCALENDAR
PRODID:-//eluceo/ical//2.0/EN
VERSION:2.0
CALSCALE:GREGORIAN
BEGIN:VEVENT
UID:da1f01e0b1f8a7c5571d979a3fbc26fd
DTSTAMP:20260419T191721Z
SUMMARY:Temple Sinai Circle Time Shabbat (In-Person)
DESCRIPTION:UJA Federation of Greater Toronto\nJewish Toronto Calendar\nhtt
 ps://jewishtoronto.com/calendar/temple-sinai-circle-time-shabbat-in-person
 -1707493614\n\nTemple Sinai Circle Time Shabbat (In-Person)\nSaturda\, Apr
 il 13\, from 10.00 a.m. to 12.00 p.m.\n\nWe invite children aged 0-4 (with
  a parent/caregiver) to join us for Circle Time Shabbat\, and older childr
 en aged 5-8 for “Big Kid Blessings”. Program includes arts and crafts\
 , music class\, story time with the rabbi and special inclusion in the Sha
 bbat morning service\, followed by lunch for the whole family.\n\nRegister
 : https://bit.ly/circletime-ts
DTSTART;TZID=America/Toronto:20240413T100000
DTEND;TZID=America/Toronto:20240413T120000
END:VEVENT
END:VCALENDAR
