BEGIN:VCALENDAR
PRODID:-//eluceo/ical//2.0/EN
VERSION:2.0
CALSCALE:GREGORIAN
BEGIN:VEVENT
UID:26dddd1e04c21649a18be7ef33e72a38
DTSTAMP:20260420T222039Z
SUMMARY:Temple Sinai Circle Time Shabbat Big Kid Blessings
DESCRIPTION:UJA Federation of Greater Toronto\nJewish Toronto Calendar\nhtt
 ps://jewishtoronto.com/calendar/temple-sinai-circle-time-shabbat-big-kid-b
 lessings-1716566898\n\nTemple Sinai Circle Time Shabbat/Big Kid Blessings 
 (In-Person)\nSaturday\, June 15 from 10.00 a.m. to 12.00 p.m.\n\nWe invite
  children aged 0-4 (with a parent/caregiver) to join us for our End of Yea
 r Circle Time Shabbat\, and older children aged 5-8 for “Big Kid Blessin
 gs”.\n\nProgram includes arts and crafts\, music class\, story time with
  the rabbi and special inclusion in the Shabbat morning service\, followed
  by lunch for the whole family.\n\nFor more information and to register pl
 ease vi...
DTSTART;TZID=America/Toronto:20240615T100000
DTEND;TZID=America/Toronto:20240615T120000
END:VEVENT
END:VCALENDAR
