BEGIN:VCALENDAR
PRODID:-//eluceo/ical//2.0/EN
VERSION:2.0
CALSCALE:GREGORIAN
BEGIN:VEVENT
UID:9426a95dc549e82b0cd3661e477c1713
DTSTAMP:20260423T100234Z
SUMMARY:Temple Sinai: Big Kid Blessings
DESCRIPTION:UJA Federation of Greater Toronto\nJewish Toronto Calendar\nhtt
 ps://jewishtoronto.com/calendar/temple-sinai-big-kid-blessings-1690572597\
 n\nTemple Sinai: Big Kid Blessings Monday\, September 25  3.00 p.m. to 3.4
 5 p.m. Interactive service filled with creative prayers\, songs and activi
 ties for big kids (ages 6 and up).For information on what’s open to the 
 community visit https://templesinai.net/high-holy-days/ or call the Temple
  Office at 416.487.4161.
DTSTART;TZID=America/Toronto:20230925T150000
DTEND;TZID=America/Toronto:20230925T154500
END:VEVENT
END:VCALENDAR
