BEGIN:VCALENDAR
PRODID:-//eluceo/ical//2.0/EN
VERSION:2.0
CALSCALE:GREGORIAN
BEGIN:VEVENT
UID:8785c264917832121e630fcdbe183a69
DTSTAMP:20260421T162745Z
SUMMARY:Temple Sinai: Beyond “Baruch”: Living With Gratitude & Wonder
DESCRIPTION:UJA Federation of Greater Toronto\nJewish Toronto Calendar\nhtt
 ps://jewishtoronto.com/calendar/temple-sinai-beyond-baruch-living-with-gra
 titude--wonder-1689351254\n\nTemple Sinai: Adult Education Series - Beyond
  “Baruch”: Living With Gratitude & Wonder Thursday\, August 31 and Sep
 tember 21\, 2023 8.00 a.m. to 8.45 a.m.Judaism gives us many blessings for
  many different kinds of experiences. Together\, we’ll study Jewish prac
 tices that help us see the world and start the day with a sense of wonder\
 , connection and gratitude. Join Rabbi Shaner on Thursday\, August 10 for 
 the first of four Thursday morning study sessions at the Bathurst branch o
 f the Centre ...
DTSTART;TZID=America/Toronto:20230831T080000
DTEND;TZID=America/Toronto:20230831T084500
END:VEVENT
END:VCALENDAR
