BEGIN:VCALENDAR
PRODID:-//eluceo/ical//2.0/EN
VERSION:2.0
CALSCALE:GREGORIAN
BEGIN:VEVENT
UID:4c6d80b4c4d5a8c2fd98d0bb3ca108aa
DTSTAMP:20260421T073742Z
SUMMARY:Temple Sinai: Beyond “Baruch”: Living With Gratitude & Wonder
DESCRIPTION:UJA Federation of Greater Toronto\nJewish Toronto Calendar\nhtt
 ps://jewishtoronto.com/calendar/temple-sinai-beyond-baruch-living-with-gra
 titude--wonder-1689351056\n\nTemple Sinai: Adult Education Series - Beyond
  “Baruch”: Living With Gratitude & Wonder Thursday\, August 24\, 31 an
 d September 21\, 2023 8.00 a.m. to 8.45 a.m.Judaism gives us many blessing
 s for many different kinds of experiences. Together\, we’ll study Jewish
  practices that help us see the world and start the day with a sense of wo
 nder\, connection and gratitude. Join Rabbi Shaner on Thursday\, August 10
  for the first of four Thursday morning study sessions at the Bathurst bra
 nch of the Cen...
DTSTART;TZID=America/Toronto:20230824T080000
DTEND;TZID=America/Toronto:20230824T084500
END:VEVENT
END:VCALENDAR
