BEGIN:VCALENDAR
PRODID:-//eluceo/ical//2.0/EN
VERSION:2.0
CALSCALE:GREGORIAN
BEGIN:VEVENT
UID:3f2aaebee49d924e1b470dcc2d7427ff
DTSTAMP:20260421T073747Z
SUMMARY:Temple Sinai: Beyond “Baruch”: Living With Gratitude & Wonder
DESCRIPTION:UJA Federation of Greater Toronto\nJewish Toronto Calendar\nhtt
 ps://jewishtoronto.com/calendar/temple-sinai-beyond-baruch-living-with-gra
 titude--wonder-1689350867\n\nTemple Sinai: Adult Education Series - Beyond
  “Baruch”: Living With Gratitude & Wonder Thursday\, August 10\, 24\, 
 31 and September 21\, 2023 8.00 a.m. to 8.45 a.m.Judaism gives us many ble
 ssings for many different kinds of experiences. Together\, we’ll study J
 ewish practices that help us see the world and start the day with a sense 
 of wonder\, connection and gratitude. Join Rabbi Shaner on Thursday\, Augu
 st 10 for the first of four Thursday morning study sessions at the Bathurs
 t branch of the...
DTSTART;TZID=America/Toronto:20230810T080000
DTEND;TZID=America/Toronto:20230810T084500
END:VEVENT
END:VCALENDAR
