BEGIN:VCALENDAR
PRODID:-//eluceo/ical//2.0/EN
VERSION:2.0
CALSCALE:GREGORIAN
BEGIN:VEVENT
UID:757d6488e96147ac37a19bef4fb5ee3a
DTSTAMP:20260421T130151Z
SUMMARY:Temple Sinai  Simchat Torah Evening Celebration and Project Zug Kic
 k-Off
DESCRIPTION:UJA Federation of Greater Toronto\nJewish Toronto Calendar\nhtt
 ps://jewishtoronto.com/calendar/temple-sinai--simchat-torah-evening-celebr
 ation-and-project-zug-kick-off-1695150506\n\nADULT EDUCATION Temple Sinai 
 Adult Education Simchat Torah Evening Celebration and Project Zug Kick-Off
  Friday\, October 6\, 2023 6.30 p.m. to 9.00 p.m. Celebrate the conclusion
  of the High Holy Days and the yearly cycle of Torah reading by joining us
  for our Simchat Torah service. With live music\, we&#039\;ll pray\, sing 
 and dance with the Torah scrolls and start our story over again. Come shar
 e in a festive oneg\, while we kick-off of this fall’s adult Jewish lear
 ning program\, in partnership with P...
DTSTART;TZID=America/Toronto:20231006T183000
DTEND;TZID=America/Toronto:20231006T210000
END:VEVENT
END:VCALENDAR
