BEGIN:VCALENDAR
PRODID:-//eluceo/ical//2.0/EN
VERSION:2.0
CALSCALE:GREGORIAN
BEGIN:VEVENT
UID:5b5e947758e50ff0318d8f70fae39ebd
DTSTAMP:20260422T135338Z
SUMMARY:Temple Sinai:  Beyond “Baruch”: Living With Gratitude & Wonder
DESCRIPTION:UJA Federation of Greater Toronto\nJewish Toronto Calendar\nhtt
 ps://jewishtoronto.com/calendar/temple-sinai--beyond-baruch-living-with-gr
 atitude--wonder-1689351417\n\nTemple Sinai: Adult Education Series - Beyon
 d “Baruch”: Living With Gratitude & Wonder Thursday\, September 21\, 2
 023 8.00 a.m. to 8.45 a.m.Judaism gives us many blessings for many differe
 nt kinds of experiences. Together\, we’ll study Jewish practices that he
 lp us see the world and start the day with a sense of wonder\, connection 
 and gratitude. Join Rabbi Shaner on Thursday\, August 10 for the first of 
 four Thursday morning study sessions at the Bathurst branch of the Centre 
 for Social Inn...
DTSTART;TZID=America/Toronto:20230921T080000
DTEND;TZID=America/Toronto:20230921T084500
END:VEVENT
END:VCALENDAR
