BEGIN:VCALENDAR
PRODID:-//eluceo/ical//2.0/EN
VERSION:2.0
CALSCALE:GREGORIAN
BEGIN:VEVENT
UID:fc5ce0eb21a4458124cc3ba0d7933080
DTSTAMP:20260420T221343Z
SUMMARY:Temple Sinai - Ben Steinberg z”l Musical Artist Award Concert
DESCRIPTION:UJA Federation of Greater Toronto\nJewish Toronto Calendar\nhtt
 ps://jewishtoronto.com/calendar/temple-sinai---ben-steinberg-zl-musical-ar
 tist-award-concert-1696260577\n\nTemple Sinai - Ben Steinberg z”l Musica
 l Artist Award Concert Noa Sarid and the Dior String Quartet (In-person & 
 Online) Saturday\, October 28\, 2023 at 10.00 a.m.Many of you will remembe
 r the beautiful playing of violinist Noa Sarid from this year’s Yom Kipp
 ur Yizkor and Ne’ilah services.Noa\, and her group The Dior String Quart
 et\, will be joining us on Saturday\, October 28 at 10.00 a.m.\, to enhanc
 e the beauty of our morning services\, and then playing for us during our 
 congregational lunc...
DTSTART;TZID=America/Toronto:20231028T100000
DTEND;TZID=America/Toronto:20231028T113000
END:VEVENT
END:VCALENDAR
