BEGIN:VCALENDAR
PRODID:-//eluceo/ical//2.0/EN
VERSION:2.0
CALSCALE:GREGORIAN
BEGIN:VEVENT
UID:ab46aadee358f94be88a3278a4300a87
DTSTAMP:20260421T043705Z
SUMMARY:TEMPLE HAR ZION |Tot Shabbat & Pizza Dinner
DESCRIPTION:UJA Federation of Greater Toronto\nJewish Toronto Calendar\nhtt
 ps://jewishtoronto.com/calendar/temple-har-zion-tot-shabbat--pizza-dinner-
 1699286383\n\nCALLING ALL Moms\, dads\, bubbies and zaidies!\nJoin us for 
 Tot Shabbat at Temple Har Zion with Julie Sermer! It&#039\;s great for kid
 s 5 and under! We&#039\;ll celebrate Shabbat with songs\, blessing\, stori
 es and an opportunity to join in on creating beautiful Shabbat music toget
 her. Pizza dinner will follow!  Only $5 per person. Kids 2 years and under
  are free! Everyone&#039\;s welcome!\n\nRSVP in advance: https://bit.ly/47
 p47fj
DTSTART;TZID=America/Toronto:20231124T173000
DTEND;TZID=America/Toronto:20231124T183000
END:VEVENT
END:VCALENDAR
