BEGIN:VCALENDAR
PRODID:-//eluceo/ical//2.0/EN
VERSION:2.0
CALSCALE:GREGORIAN
BEGIN:VEVENT
UID:2b22ce2c7fdcfc6868c9137bdf11660b
DTSTAMP:20260421T162656Z
SUMMARY:TEMPLE HAR ZION |Ha'ikar: The Most Important Thing
DESCRIPTION:UJA Federation of Greater Toronto\nJewish Toronto Calendar\nhtt
 ps://jewishtoronto.com/calendar/temple-har-zion-haikar-the-most-important-
 thing-1706115713\n\nYAM (Young Adult Members) Discussion Group | WEDNESDAY
  FEBRUARY 7 @7:30pm\nLed by “YAMMERs” Jacob Weiss and Jay Ginsherman\,
  Ha’ikar—The Most Important Thing\, is a safe-space discussion group f
 or cohorts to talk about current events in Israel\, antisemitism and other
  issues in an intimate group setting. \n\nPlease RSVP https://bit.ly/3HxY2
 C6 to join us at THZ for this meaningful event.
DTSTART;TZID=America/Toronto:20240207T193000
DTEND;TZID=America/Toronto:20240207T210000
END:VEVENT
END:VCALENDAR
