BEGIN:VCALENDAR
PRODID:-//eluceo/ical//2.0/EN
VERSION:2.0
CALSCALE:GREGORIAN
BEGIN:VEVENT
UID:0dd1687d17f16b84e329643c7a0a9f0d
DTSTAMP:20260419T144636Z
SUMMARY:TEMPLE HAR ZION | Explore 4
DESCRIPTION:UJA Federation of Greater Toronto\nJewish Toronto Calendar\nhtt
 ps://jewishtoronto.com/calendar/temple-har-zion-explore-4\n\nWe&#39\;re op
 ening our school doors from 9.30am-12.30pm on SUNDAY mornings and we&#39\;
 d LOVE to see you!\n\nYour kids in grades JK-6 can try us out for only $60
  per session (4 classes in total)!\n\nThey’ll enjoy a typical morning wi
 th us\, including:\n- Musical gathering with Rabbi Weiss\, Cantor Littman\
 , our song leaders and our Beit Midrash community\n- Cooking with Marnee o
 f Taste Budds Cooking School\n- Time with Maya\, our ShinShinit from Israe
 l\n- Songs and movement\n- Class time with their grade...
DTSTART;TZID=America/Toronto:20241020T093000
DTEND;TZID=America/Toronto:20241020T123000
END:VEVENT
END:VCALENDAR
