BEGIN:VCALENDAR
PRODID:-//eluceo/ical//2.0/EN
VERSION:2.0
CALSCALE:GREGORIAN
BEGIN:VEVENT
UID:577d674a5d646c66501eab3dda984ced
DTSTAMP:20260422T222829Z
SUMMARY:TEMPLE HAR ZION | Yom HaShoah Commemoration Service
DESCRIPTION:UJA Federation of Greater Toronto\nJewish Toronto Calendar\nhtt
 ps://jewishtoronto.com/calendar/temple-har-zion--yom-hashoah-commemoration
 -service-1681419792\n\nOn April 18 at 7pm\, we will observe Yom HaShoah as
  a community. \n\nThis is one of the most powerful nights of the year. Sur
 vivors and children of survivors will share stories and poetry\, as will m
 embers of the Interfaith Clergy Community. We truly believe that our neigh
 bours need to know about the Shoah and to mourn with us. \n\nThe B&#039\;n
 ai Mitzvah class of our congregation will help to remember the children wh
 o were lost. Music helps to set the mood. Six candles will be lit represen
 ting the...
DTSTART;TZID=America/Toronto:20230418T190000
DTEND;TZID=America/Toronto:20230418T210000
END:VEVENT
END:VCALENDAR
