BEGIN:VCALENDAR
PRODID:-//eluceo/ical//2.0/EN
VERSION:2.0
CALSCALE:GREGORIAN
BEGIN:VEVENT
UID:8b5c09c220e9c8d709099854c8bb7630
DTSTAMP:20260422T225034Z
SUMMARY:TEMPLE HAR ZION | Tot Shabbat - Kabbalat Shabbat!
DESCRIPTION:UJA Federation of Greater Toronto\nJewish Toronto Calendar\nhtt
 ps://jewishtoronto.com/calendar/temple-har-zion--tot-shabbat---kabbalat-sh
 abbat-1682616557\n\nCalling all moms\, dads\, bubbies and zaidies!\nWhat a
  wonderful way to welcome Shabbat!\nGreat for kids 5 and under! Songs\, pr
 ayer\, storybook reading\, followed by pizza dinner!\n\nREGISTER NOW! http
 s://www.harzion.ca/event/tot-shabbat--kabbalat-shabbat.html
DTSTART;TZID=America/Toronto:20230526T173000
DTEND;TZID=America/Toronto:20230526T183000
END:VEVENT
END:VCALENDAR
