BEGIN:VCALENDAR
PRODID:-//eluceo/ical//2.0/EN
VERSION:2.0
CALSCALE:GREGORIAN
BEGIN:VEVENT
UID:be0ce42f57cca10d3748467384ad3ad5
DTSTAMP:20260423T234457Z
SUMMARY:TEMPLE HAR ZION | Tom Thomson: North Star
DESCRIPTION:UJA Federation of Greater Toronto\nJewish Toronto Calendar\nhtt
 ps://jewishtoronto.com/calendar/temple-har-zion--tom-thomson-north-star-16
 91778544\n\nEveryone is welcome to attend!\n\nTHZ&#039\;s Sisterhood prese
 nts a guided tour of Group of Seven artist Tom Thomson&#039\;s newest exhi
 bition at the McMichael Canadian Art Collection.\n\nGas is pricey\, so we&
 #039\;ll meet in the parking lot at Temple Har Zion so we can carpool to M
 cMichael!\n\nRegister in advance: https://www.harzion.ca/event/sisterhood-
 -mcmichael-canadian-art-collection.html
DTSTART;TZID=America/Toronto:20230822T100000
DTEND;TZID=America/Toronto:20230822T130000
END:VEVENT
END:VCALENDAR
