BEGIN:VCALENDAR
PRODID:-//eluceo/ical//2.0/EN
VERSION:2.0
CALSCALE:GREGORIAN
BEGIN:VEVENT
UID:edf06a93972a7491e7979d4f5188cd0a
DTSTAMP:20260425T205544Z
SUMMARY:TEMPLE HAR ZION & PJ LIBRARY | Shabbat Fun @THZ!
DESCRIPTION:UJA Federation of Greater Toronto\nJewish Toronto Calendar\nhtt
 ps://jewishtoronto.com/calendar/temple-har-zion--pj-library--shabbat-fun-t
 hz-1670529291\n\nSATURDAY DECEMBER 17 at 10am\nParents and grandparents!\n
 Celebrate Shabbat and bring your little ones (ages 5 and under) to Temple 
 Har Zion\nfor an hour of FREE fun!\n\nJoin us for crafts\, music\, story t
 ime\, a short service\, challah and juice.\n\nAll are welcome\, so bring y
 our friends along for this fun\, FREE event!\n\nPlease click on this link 
 to register: https://www.harzion.ca/event/shabbat-fun--thz2.html
DTSTART;TZID=America/Toronto:20221217T100000
DTEND;TZID=America/Toronto:20221217T110000
END:VEVENT
END:VCALENDAR
