BEGIN:VCALENDAR
PRODID:-//eluceo/ical//2.0/EN
VERSION:2.0
CALSCALE:GREGORIAN
BEGIN:VEVENT
UID:35f78c5e5095a6b603e416de59f3d4b2
DTSTAMP:20260420T222034Z
SUMMARY:TEMPLE HAR ZION | Kugel & Klezmer Brunch!
DESCRIPTION:UJA Federation of Greater Toronto\nJewish Toronto Calendar\nhtt
 ps://jewishtoronto.com/calendar/temple-har-zion--kugel--klezmer-brunch-171
 5280747\n\nJoin us for an engaging morning of delicious food and entertain
 ment featuring THZ’s Klezmer Band ‘Nezbeymer Blatt’ and Cantor Racha
 el Littman! Proceeds to Brain Health Research & THZ Youth Engagement proje
 cts.\n\nEveryone's welcome! RSVP in advance https://bit.ly/3QzNveL
DTSTART;TZID=America/Toronto:20240526T103000
DTEND;TZID=America/Toronto:20240526T130000
END:VEVENT
END:VCALENDAR
