BEGIN:VCALENDAR
PRODID:-//eluceo/ical//2.0/EN
VERSION:2.0
CALSCALE:GREGORIAN
BEGIN:VEVENT
UID:b18feaf2a15c9e8eb8ee39c0d1499cfb
DTSTAMP:20260421T113553Z
SUMMARY:TEMPLE HAR ZION | Kavanah Shabbat: Meditative-Musical Experience
DESCRIPTION:UJA Federation of Greater Toronto\nJewish Toronto Calendar\nhtt
 ps://jewishtoronto.com/calendar/temple-har-zion--kavanah-shabbat-meditativ
 e-musical-experience-1710449017\n\nFRIDAY APRIL 12 at 6:30pm\nKavanah Shab
 bat: A Meditative-Musical Shabbat Experience\n\nEveryone is welcome to joi
 n us as we focus our hearts and souls on music that moves us as a worship 
 community.\n\nRabbi Abraham Joshua Heschel taught that prayer should take 
 us out of our heads and into our hearts. KAVANAH SHABBAT is designed to do
  just that: use music\, chant\, breathing and meditation to bring us to ne
 w levels.\nCome with an open mind and an open heart! It's a relaxing way t
 o end a busy...
DTSTART;TZID=America/Toronto:20240412T183000
DTEND;TZID=America/Toronto:20240412T193000
END:VEVENT
END:VCALENDAR
