BEGIN:VCALENDAR
PRODID:-//eluceo/ical//2.0/EN
VERSION:2.0
CALSCALE:GREGORIAN
BEGIN:VEVENT
UID:8c2d1a219add6e74d3f828b25bfcaab1
DTSTAMP:20260422T095322Z
SUMMARY:TEMPLE HAR ZION | Kavanah Shabbat
DESCRIPTION:UJA Federation of Greater Toronto\nJewish Toronto Calendar\nhtt
 ps://jewishtoronto.com/calendar/temple-har-zion--kavanah-shabbat-168253899
 1\n\nA Meditative-Musical Shabbat Experience\n\nElie Wiesel taught: “Whe
 n we pray as a community\, we are rescued from our loneliness — we are n
 o longer alone. Our voices are not lost to the chaos of the world.” \n\n
 Everyone is welcome to join Rabbi Cory Weiss\, Cantor Rachael Littman\, an
 d Music Director Eleanor Ackerman Rice as we embark on a new kind of worsh
 ip experience: KAVANAH SHABBAT as we will focus our hearts and souls on mu
 sic that moves us as a worship community. We will go...
DTSTART;TZID=America/Toronto:20230512T183000
DTEND;TZID=America/Toronto:20230512T200000
END:VEVENT
END:VCALENDAR
