BEGIN:VCALENDAR
PRODID:-//eluceo/ical//2.0/EN
VERSION:2.0
CALSCALE:GREGORIAN
BEGIN:VEVENT
UID:2acdd1a6db20f9d35a817be66a0c488b
DTSTAMP:20260423T065901Z
SUMMARY:TEMPLE HAR ZION | Israel@75 Kol Bo Shabbat Service & Dinner
DESCRIPTION:UJA Federation of Greater Toronto\nJewish Toronto Calendar\nhtt
 ps://jewishtoronto.com/calendar/temple-har-zion--israel75-kol-bo-shabbat-s
 ervice--dinner-1681420325\n\nOn Friday April 21\, we gather in joy to cele
 brate the 75th anniversary of the founding of the State of Israel at our I
 srael@75 Kol Bo Shabbat Service &amp\; Dinner. Israel’s existence is a l
 iving miracle in the lives of our people\, and we will celebrate with wors
 hip\, and Israeli dinner\, song and dance! \n\nDinner:\nTHZ Members: Adult
 s $22 | Teens $18 | Kids $15\nCommunity Guests: Adults $25 | Teens $21 | K
 ids $15\nChildren 3 and under are free\n\nWe&#039\;d love to have you cele
 brate with us!\n\nTo...
DTSTART;TZID=America/Toronto:20230421T180000
DTEND;TZID=America/Toronto:20230421T203000
END:VEVENT
END:VCALENDAR
