BEGIN:VCALENDAR
PRODID:-//eluceo/ical//2.0/EN
VERSION:2.0
CALSCALE:GREGORIAN
BEGIN:VEVENT
UID:ad420276a87fab6742874f8bc5712986
DTSTAMP:20260423T011248Z
SUMMARY:TEMPLE HAR ZION | Israel Culture Club: Israeli Music!
DESCRIPTION:UJA Federation of Greater Toronto\nJewish Toronto Calendar\nhtt
 ps://jewishtoronto.com/calendar/temple-har-zion--israel-culture-club-israe
 li-music-1674579626\n\nDon’t miss your chance to listen\, learn\, and ex
 plore all different kinds of Israeli music with our awesome Shin\, Yuval!\
 n\nEveryone&#039\;s welcome!\n\nRegister: https://www.harzion.ca/event/ICC
 music
DTSTART;TZID=America/Toronto:20230124T193000
DTEND;TZID=America/Toronto:20230124T210000
END:VEVENT
END:VCALENDAR
