BEGIN:VCALENDAR
PRODID:-//eluceo/ical//2.0/EN
VERSION:2.0
CALSCALE:GREGORIAN
BEGIN:VEVENT
UID:431066079d8dfee228645d9b456dd76a
DTSTAMP:20260419T122546Z
SUMMARY:TEMPLE HAR ZION | Israel Culture Club: Israeli Humour on TV
DESCRIPTION:UJA Federation of Greater Toronto\nJewish Toronto Calendar\nhtt
 ps://jewishtoronto.com/calendar/temple-har-zion--israel-culture-club-israe
 li-humour-on-tv-1708644206\n\nIsrael Culture Club: Israeli Humour on TV | 
 Tuesday February 27 at 7:30pm\nEven in the most difficult of times\, it's 
 important to find laughter and joy.\n\nPlease join our ShinShinit Shira as
  she shows how Israelis demonstrate that laughter is the best medicine—e
 ven during a time of war. \n\nEveryone is welcome! RSVP in advance https:/
 /bit.ly/3T6WXYu\n\n#jewishtoronto #reformjudaism #loveandkindness #ourshul
 iscool #itswhereyoubelong #WeStandWithIsrael #AmYisraelChai #BringThemHome
 Now
DTSTART;TZID=America/Toronto:20240227T193000
DTEND;TZID=America/Toronto:20240227T213000
END:VEVENT
END:VCALENDAR
