BEGIN:VCALENDAR
PRODID:-//eluceo/ical//2.0/EN
VERSION:2.0
CALSCALE:GREGORIAN
BEGIN:VEVENT
UID:fc0394c34be82521010fdbb09772c756
DTSTAMP:20260425T212750Z
SUMMARY:TEMPLE HAR ZION | Israel Culture Club: Cooking with Yuval!
DESCRIPTION:UJA Federation of Greater Toronto\nJewish Toronto Calendar\nhtt
 ps://jewishtoronto.com/calendar/temple-har-zion--israel-culture-club-cooki
 ng-with-yuval-1668545818\n\nJoin our ShinShin Yuval and learn how to make 
 his favourite Israeli dessert! \n\nWe’ll provide the ingredients\, coffe
 e and tea!\n\nFriends and family\, everyone is welcome to attend!\n\nPleas
 e register in advance.\n\nhttps://www.harzion.ca/event/israel-culture-club
 --cooking-malabi-with-yuval.html
DTSTART;TZID=America/Toronto:20221122T193000
DTEND;TZID=America/Toronto:20221122T210000
END:VEVENT
END:VCALENDAR
