BEGIN:VCALENDAR
PRODID:-//eluceo/ical//2.0/EN
VERSION:2.0
CALSCALE:GREGORIAN
BEGIN:VEVENT
UID:84f6cd55446844e3ff34c832b8bfd862
DTSTAMP:20260419T191727Z
SUMMARY:TEMPLE HAR ZION | Ha'ikar: The Most Important Thing
DESCRIPTION:UJA Federation of Greater Toronto\nJewish Toronto Calendar\nhtt
 ps://jewishtoronto.com/calendar/temple-har-zion--haikar-the-most-important
 -thing-1710343758\n\nYoung Adult Members (YAM) Discussion Group | "Ha'Ikar
 : The Most Important Thing" Wednesday March 13 @7:15pm\n\nThis is the thir
 d edition of our monthly young adult discussion group handling fear and em
 otion after October 7.\nJacob Weiss and Jay Ginsherman were inspired to fa
 cilitate this group in response to the rise of antisemitism in the GTA. \n
 \nIf you are between the ages of 19-39\, please join us for a brave-space 
 discussion over food and snacks.\n\nRSVP in advance https://bit.ly/3wUeuL7
DTSTART;TZID=America/Toronto:20240417T191500
DTEND;TZID=America/Toronto:20240417T210000
END:VEVENT
END:VCALENDAR
