BEGIN:VCALENDAR
PRODID:-//eluceo/ical//2.0/EN
VERSION:2.0
CALSCALE:GREGORIAN
BEGIN:VEVENT
UID:0146ebdcf32414a0988c525e1552b537
DTSTAMP:20260422T120857Z
SUMMARY:TEMPLE HAR ZION | Festival of Fives Service with FNL Band
DESCRIPTION:UJA Federation of Greater Toronto\nJewish Toronto Calendar\nhtt
 ps://jewishtoronto.com/calendar/temple-har-zion--festival-of-fives-service
 -with-fnl-band-1681420791\n\nPlease join us as we honour those in our Temp
 le family celebrating special anniversaries!\nThe Friday Night Live Band w
 ill be playing\, too!\n\nRSVP https://www.harzion.ca/event/festival-of-fiv
 es-service-with-fnl-band.html
DTSTART;TZID=America/Toronto:20230505T193000
DTEND;TZID=America/Toronto:20230505T213000
END:VEVENT
END:VCALENDAR
