BEGIN:VCALENDAR
PRODID:-//eluceo/ical//2.0/EN
VERSION:2.0
CALSCALE:GREGORIAN
BEGIN:VEVENT
UID:2564fa902d57060fbd5a8a5d98e5cfac
DTSTAMP:20260425T031800Z
SUMMARY:TEMPLE HAR ZION | Community Second Seder
DESCRIPTION:UJA Federation of Greater Toronto\nJewish Toronto Calendar\nhtt
 ps://jewishtoronto.com/calendar/temple-har-zion--community-second-seder-16
 79079839\n\nPlease join the Temple Har Zion family as Rabbi Cory Weiss and
  Cantor Rachael Littman lead an engaging and inspirational 2nd Night Passo
 ver Seder\, catered by Chef On The Go. Whether you’re a Seder veteran or
  have over 40 questions\, whether you’re single or have a family\, our C
 ommunity Seder is a delight for everyone! \n\nHighlights include:\n- An ho
 ur-long Passover service using the Gates of Freedom Haggadah\n- Ceremonial
  Seder plate\, candlesticks\, Elijah’s Cup and Haggadot are...
DTSTART;TZID=America/Toronto:20230406T173000
DTEND;TZID=America/Toronto:20230406T203000
END:VEVENT
END:VCALENDAR
