BEGIN:VCALENDAR
PRODID:-//eluceo/ical//2.0/EN
VERSION:2.0
CALSCALE:GREGORIAN
BEGIN:VEVENT
UID:a40121595649f742ea825bd8c052bf56
DTSTAMP:20260419T122556Z
SUMMARY:Tell Your Children: Black Slavery\, Spirituals\, and Storytelling a
 t Passover
DESCRIPTION:UJA Federation of Greater Toronto\nJewish Toronto Calendar\nhtt
 ps://jewishtoronto.com/calendar/tell-your-children-black-slavery-spiritual
 s-and-storytelling-at-passover-1711380365\n\nA race-centered panel in prep
 aration for Passover and to mark D.C. Emancipation Day. The conversation w
 ill feature Black perspectives of Passover themes that often serve as poin
 ts of coalition and connection for Jewish and Black communities– the Exo
 dus\, yearning for freedom\, and gathering in community. We hope to foster
  conversations on race\, anti-Black racism\, and religion that resonate an
 d inspire as we move into Passover celebrations and embolden us to continu
 e work for liberation year-r...
DTSTART;TZID=America/Toronto:20240416T190000
DTEND;TZID=America/Toronto:20240416T200000
END:VEVENT
END:VCALENDAR
