BEGIN:VCALENDAR
PRODID:-//eluceo/ical//2.0/EN
VERSION:2.0
CALSCALE:GREGORIAN
BEGIN:VEVENT
UID:b3195ba9f6ebd720468a244484ee6fd6
DTSTAMP:20260423T081723Z
SUMMARY:Tel Aviv University Canada - GALA
DESCRIPTION:UJA Federation of Greater Toronto\nJewish Toronto Calendar\nhtt
 ps://jewishtoronto.com/calendar/tel-aviv-university-canada---gala-16599867
 13\n\nTAU CANADA GALA EVENT
DTSTART;TZID=America/Toronto:20230507T170000
DTEND;TZID=America/Toronto:20230507T213000
END:VEVENT
END:VCALENDAR
