BEGIN:VCALENDAR
PRODID:-//eluceo/ical//2.0/EN
VERSION:2.0
CALSCALE:GREGORIAN
BEGIN:VEVENT
UID:7148e830fb534e423a95d2e3758987c0
DTSTAMP:20260419T155144Z
SUMMARY:Teen Takeover at Baycrest
DESCRIPTION:UJA Federation of Greater Toronto\nJewish Toronto Calendar\nhtt
 ps://jewishtoronto.com/calendar/teen-takeover-at-baycrest-1687374569\n\nA 
 volunteer event for teens at Baycrest.
DTSTART;TZID=America/Toronto:20240526T120000
DTEND;TZID=America/Toronto:20240526T140000
END:VEVENT
END:VCALENDAR
