BEGIN:VCALENDAR
PRODID:-//eluceo/ical//2.0/EN
VERSION:2.0
CALSCALE:GREGORIAN
BEGIN:VEVENT
UID:0bae1b14f5cbba35d8119a5bcbc30bdd
DTSTAMP:20260423T174010Z
SUMMARY:Teddy Bear Havdalah
DESCRIPTION:UJA Federation of Greater Toronto\nJewish Toronto Calendar\nhtt
 ps://jewishtoronto.com/calendar/teddy-bear-havdalah-1675188821\n\nCome hav
 e a yummy dinner in your jammies! Bring your teddy (or other lovey) too! T
 ogether we’ll say goodbye to Shabbat and then have a little Teddy Torah 
 fun. \n\nThere is no charge\, but RSVPs required by Monday\, February 6. T
 o register\, visit https://bethtzedectoronto.shulcloud.com/form/teddy-bear
 -havdalah.html.
DTSTART;TZID=America/Toronto:20230211T174500
DTEND;TZID=America/Toronto:20230211T190000
END:VEVENT
END:VCALENDAR
