BEGIN:VCALENDAR
PRODID:-//eluceo/ical//2.0/EN
VERSION:2.0
CALSCALE:GREGORIAN
BEGIN:VEVENT
UID:5af19d6f2ac64b3cc8685779bc69c8cb
DTSTAMP:20260420T075104Z
SUMMARY:Technion Canada Solidarity Event with Bassem Eid
DESCRIPTION:UJA Federation of Greater Toronto\nJewish Toronto Calendar\nhtt
 ps://jewishtoronto.com/calendar/technion-canada-solidarity-event-with-bass
 em-eid-1706017066\n\nA thought-provoking event featuring Bassem Eid\, a wo
 rld-renowned Palestinian-Israeli speaker living in East Jerusalem\, who wi
 ll address the critical topic of the Israel crisis.
DTSTART;TZID=America/Toronto:20240207T070000
DTEND;TZID=America/Toronto:20240207T214000
END:VEVENT
END:VCALENDAR
