BEGIN:VCALENDAR
PRODID:-//eluceo/ical//2.0/EN
VERSION:2.0
CALSCALE:GREGORIAN
BEGIN:VEVENT
UID:0134c4107b18cc925bf4ca0a4406ea58
DTSTAMP:20260422T203531Z
SUMMARY:Technion Canada event
DESCRIPTION:UJA Federation of Greater Toronto\nJewish Toronto Calendar\nhtt
 ps://jewishtoronto.com/calendar/technion-canada-event-1680118763\n\nTBD
DTSTART;TZID=America/Toronto:20230518T190000
DTEND;TZID=America/Toronto:20230518T220000
END:VEVENT
END:VCALENDAR
