BEGIN:VCALENDAR
PRODID:-//eluceo/ical//2.0/EN
VERSION:2.0
CALSCALE:GREGORIAN
BEGIN:VEVENT
UID:0e5d61dfd46c1c0549d42fb00e37c992
DTSTAMP:20260423T081825Z
SUMMARY:TanenbaumCHAT Grade 12 Graduation
DESCRIPTION:UJA Federation of Greater Toronto\nJewish Toronto Calendar\nhtt
 ps://jewishtoronto.com/calendar/tanenbaumchat-grade-12-graduation-16819274
 54\n\nGrade 12 Graduation
DTSTART;TZID=America/Toronto:20230614T193000
DTEND;TZID=America/Toronto:20230614T213000
END:VEVENT
END:VCALENDAR
