BEGIN:VCALENDAR
PRODID:-//eluceo/ical//2.0/EN
VERSION:2.0
CALSCALE:GREGORIAN
BEGIN:VEVENT
UID:bd4190ba6b1fe27b401e1c6217050536
DTSTAMP:20260420T080552Z
SUMMARY:Talia Reese
DESCRIPTION:UJA Federation of Greater Toronto\nJewish Toronto Calendar\nhtt
 ps://jewishtoronto.com/calendar/talia-reese-1703173996\n\nTalia Reese&#39\
 ;s uproarious comedy delves into relatable Jewish life with sharp humor.\n
 Her witty delivery and personal anecdotes\, spanning from newfound observa
 nce to marriage and motherhood\, resonate universally\, leaving audiences 
 in stitches.\n\nLink to purchase tickets: https://www.eventbrite.ca/e/tali
 a-reese-tickets-780328683097?aff=ebdsoporgprofile\\
DTSTART;TZID=America/Toronto:20240314T190000
DTEND;TZID=America/Toronto:20240314T220000
END:VEVENT
END:VCALENDAR
