BEGIN:VCALENDAR
PRODID:-//eluceo/ical//2.0/EN
VERSION:2.0
CALSCALE:GREGORIAN
BEGIN:VEVENT
UID:9b47d1c50d09bb6ccde7a69331ba5bbc
DTSTAMP:20260420T081830Z
SUMMARY:State of Antisemitism Lecture
DESCRIPTION:UJA Federation of Greater Toronto\nJewish Toronto Calendar\nhtt
 ps://jewishtoronto.com/calendar/state-of-antisemitism-lecture-1687785311\n
 \nA lecture on Antisemitism
DTSTART;TZID=America/Toronto:20231105T190000
DTEND;TZID=America/Toronto:20231105T210000
END:VEVENT
END:VCALENDAR
