BEGIN:VCALENDAR
PRODID:-//eluceo/ical//2.0/EN
VERSION:2.0
CALSCALE:GREGORIAN
BEGIN:VEVENT
UID:9d6711df310735bfb39b529995a971c7
DTSTAMP:20260422T075708Z
SUMMARY:Spring Session Shoresh Outdoor School
DESCRIPTION:UJA Federation of Greater Toronto\nJewish Toronto Calendar\nhtt
 ps://jewishtoronto.com/calendar/spring-session-shoresh-outdoor-schoolaa\n\
 nThe Shoresh Outdoor School bridges meaningful Jewish learning with hands-
 on\, nature-based experiences!\n\nGive your kids the gift of Jewish learni
 ng…in the great outdoors!  Through urban wilderness experiences\, stude
 nts (JK-grade 6) explore Jewish holidays and cycles\, mitzvot and rituals\
 , and ethical teachings\, while being active\, building community\, and ex
 periencing moments of deep nature connection.  The Shoresh Outdoor School
  is pluralistic and open to the many ways that our community ...
DTSTART;TZID=America/Toronto:20240602T000000
DTEND;TZID=America/Toronto:20240602T235959
END:VEVENT
END:VCALENDAR
