BEGIN:VCALENDAR
PRODID:-//eluceo/ical//2.0/EN
VERSION:2.0
CALSCALE:GREGORIAN
BEGIN:VEVENT
UID:bd8c5098cf27bacfe34f42322c160165
DTSTAMP:20260419T214259Z
SUMMARY:Special Advance Screening: Rapito
DESCRIPTION:UJA Federation of Greater Toronto\nJewish Toronto Calendar\nhtt
 ps://jewishtoronto.com/calendar/special-advance-screening-rapito-170905520
 7\n\nOfficial Selection\, 2023 Cannes Film Festival\n\nOfficial Selection\
 , 2023 Toronto International Film Festival\n\nPalme d’Or winning directo
 r Marco Bellochio tells the true story of the Mortara family. In the Jewis
 h quarter of Bologna in 1858\, it was discovered that the seven-year-old s
 on of the Mortara family was secretly baptized as a baby by his nurse. On 
 this matter\, the Papal law is unquestionable: he must receive a Catholic 
 education. So by order of the Cardinal\, soldiers seize their c...
DTSTART;TZID=America/Toronto:20240303T160000
DTEND;TZID=America/Toronto:20240303T180000
END:VEVENT
END:VCALENDAR
