BEGIN:VCALENDAR
PRODID:-//eluceo/ical//2.0/EN
VERSION:2.0
CALSCALE:GREGORIAN
BEGIN:VEVENT
UID:c7fa32cdb60f9dea985ba5bac2c1f300
DTSTAMP:20260425T220807Z
SUMMARY:Sound & Sense: Jewish Music @ York - The Amos Hoffman & Noam Lemish
  Quartet
DESCRIPTION:UJA Federation of Greater Toronto\nJewish Toronto Calendar\nhtt
 ps://jewishtoronto.com/calendar/sound--sense-jewish-music--york---the-amos
 -hoffman--noam-lemish-quartet-1675277845\n\nIsraeli oud/guitar virtuoso Am
 os Hoffman and pianist Noam Lemish play jazz arrangements of Jewish melodi
 es from around the world.
DTSTART;TZID=America/Toronto:20230216T193000
DTEND;TZID=America/Toronto:20230216T210000
END:VEVENT
END:VCALENDAR
