BEGIN:VCALENDAR
PRODID:-//eluceo/ical//2.0/EN
VERSION:2.0
CALSCALE:GREGORIAN
BEGIN:VEVENT
UID:585d15ce65f97053794af6b590c643e8
DTSTAMP:20260420T221328Z
SUMMARY:Sound & Sense: Jewish Music @ York - Lenka Lichtenberg’s Thieves 
 of Dreams
DESCRIPTION:UJA Federation of Greater Toronto\nJewish Toronto Calendar\nhtt
 ps://jewishtoronto.com/calendar/sound--sense-jewish-music--york---lenka-li
 chtenbergs-thieves-of-dreams-1695761002\n\nThe Koschitzky Centre for Jewis
 h Studies and the Department of Music in the School of the Arts\, Media\, 
 Performance and Design are proud to present 2023 Juno Award winner Lenka L
 ichtenberg and her deeply personal magnum opus Thieves of Dreams. The proj
 ect is based on recently discovered poems written by her grandmother Hana 
 in the years 1942-1945 while she was imprisoned in Theresienstadt\, a WWII
  concentration camp in Czechoslovakia. The album\, released in May 2022\, 
 has gone on to garner enthu...
DTSTART;TZID=America/Toronto:20231019T193000
DTEND;TZID=America/Toronto:20231019T210000
END:VEVENT
END:VCALENDAR
