BEGIN:VCALENDAR
PRODID:-//eluceo/ical//2.0/EN
VERSION:2.0
CALSCALE:GREGORIAN
BEGIN:VEVENT
UID:287f639b87cfcdb85e5b9cb903fd22b0
DTSTAMP:20260422T175857Z
SUMMARY:Something New for Seder!
DESCRIPTION:UJA Federation of Greater Toronto\nJewish Toronto Calendar\nhtt
 ps://jewishtoronto.com/calendar/something-new-for-seder-1678807448\n\nA Tr
 easure Trove of Creativity from the Minds of The Matzah Mavens!\n\nWhether
  this is your first time hosting a seder or your 70th\, our panel of exper
 ts will bring you new ideas and approaches to help make your family fresh\
 , lively and engaging.  \n\nGot any special seder-related challenges or is
 sues you want addressed? Send them to Penina at phoffnung@beth-tzedec.org 
 by March 20\, and we’ll take it to the mavens. \n\nThis program is offer
 ed via Zoom only. No charge\; Pre-registration is...
DTSTART;TZID=America/Toronto:20230327T193000
DTEND;TZID=America/Toronto:20230327T203000
END:VEVENT
END:VCALENDAR
