BEGIN:VCALENDAR
PRODID:-//eluceo/ical//2.0/EN
VERSION:2.0
CALSCALE:GREGORIAN
BEGIN:VEVENT
UID:f88e1a7c6700f4899da38301c409cdf9
DTSTAMP:20260422T010400Z
SUMMARY:Solidarity vigil
DESCRIPTION:UJA Federation of Greater Toronto\nJewish Toronto Calendar\nhtt
 ps://jewishtoronto.com/calendar/solidarity-vigil-1698293003\n\nA solidarit
 y vigil
DTSTART;TZID=America/Toronto:20231030T190000
DTEND;TZID=America/Toronto:20231030T210000
END:VEVENT
END:VCALENDAR
