BEGIN:VCALENDAR
PRODID:-//eluceo/ical//2.0/EN
VERSION:2.0
CALSCALE:GREGORIAN
BEGIN:VEVENT
UID:4e61faff03db1db2f2232ccd8ba040de
DTSTAMP:20260421T105742Z
SUMMARY:Simhat Torah Community Hakafot
DESCRIPTION:UJA Federation of Greater Toronto\nJewish Toronto Calendar\nhtt
 ps://jewishtoronto.com/calendar/simhat-torah-community-hakafot-1696455526\
 n\nCome hug a Torah! -\n\nSimhat Torah Hakafot and Dancing at Beth Tzedec\
 n\n• Candy Bar\n• Drinks Bar\n• Dessert spread\n• For all ages\n
 •Dress code: Torah dancing casual\n\nEveryone is welcome. Pre-registrati
 on is not required!
DTSTART;TZID=America/Toronto:20231007T191500
DTEND;TZID=America/Toronto:20231007T204500
END:VEVENT
END:VCALENDAR
