BEGIN:VCALENDAR
PRODID:-//eluceo/ical//2.0/EN
VERSION:2.0
CALSCALE:GREGORIAN
BEGIN:VEVENT
UID:040db5611dc1109505ff4e77024f0a0d
DTSTAMP:20260422T120931Z
SUMMARY:She’s a Mensch! Ten amazing Jewish Women
DESCRIPTION:UJA Federation of Greater Toronto\nJewish Toronto Calendar\nhtt
 ps://jewishtoronto.com/calendar/shes-a-mensch-ten-amazing-jewish-women-168
 1415318\n\nIn her newest book\, Holy Blossom member\, Anne Dublin\, recoun
 ts tales of 10 Jewish women and their inspiring lives of activism and resi
 stance\, from the poorest neighbourhoods of Kenya to the halls of the Cana
 dian Supreme Court.Join Women of Holy Blossom\, Holy Blossom Temple\, the 
 Association of Jewish Libraries of Canada\, and Second Story Press for the
  book launch on Monday\, May 15\, 2023\, at 7:00 pm ET. Live at Holy Bloss
 om\, with refreshments and book sales and signing\, or online. The link wi
 ll...
DTSTART;TZID=America/Toronto:20230515T190000
DTEND;TZID=America/Toronto:20230515T210000
END:VEVENT
END:VCALENDAR
