BEGIN:VCALENDAR
PRODID:-//eluceo/ical//2.0/EN
VERSION:2.0
CALSCALE:GREGORIAN
BEGIN:VEVENT
UID:6156fd2aab5dd78532c4fe6e8e607035
DTSTAMP:20260422T150331Z
SUMMARY:Sheba Under the Stars Gala 2023
DESCRIPTION:UJA Federation of Greater Toronto\nJewish Toronto Calendar\nhtt
 ps://jewishtoronto.com/calendar/sheba-under-the-stars-gala-2023-1656960754
 \n\nCanadian Friends of Sheba returns with this year&#39\;s Sheba Under Th
 e Stars 2023 Gala. Please visit our website for further updates on the eve
 nt.
DTSTART;TZID=America/Toronto:20230507T173000
DTEND;TZID=America/Toronto:20230507T203000
END:VEVENT
END:VCALENDAR
