BEGIN:VCALENDAR
PRODID:-//eluceo/ical//2.0/EN
VERSION:2.0
CALSCALE:GREGORIAN
BEGIN:VEVENT
UID:71e468d925b423583eb471d808b61d96
DTSTAMP:20260420T185659Z
SUMMARY:Shabbat Shira: Mir Zeinen Do (In-Person & Online)
DESCRIPTION:UJA Federation of Greater Toronto\nJewish Toronto Calendar\nhtt
 ps://jewishtoronto.com/calendar/shabbat-shira-mir-zeinen-do-in-person--onl
 ine-1703101562\n\nIN-PERSON & ONLINE\nShabbat Shira: Mir Zeinen Do\nSaturd
 ay\, January 27\n10.00 a.m.\n\nShabbat of Remembrance\n\nJoin us for a spe
 cial Shabbat service celebrating the resilience of survivors as we mark bo
 th the Shabbat of freedom (Shabbat Shira) and International Holocaust Reme
 mbrance day. A musical service and a presentation on future generations co
 ntinuing to tell the stories of survivors.\n\nFor more information and to 
 register please visit www.templesinai.net\, email david@templesinai.net o.
 ..
DTSTART;TZID=America/Toronto:20240127T100000
DTEND;TZID=America/Toronto:20240127T113000
END:VEVENT
END:VCALENDAR
