BEGIN:VCALENDAR
PRODID:-//eluceo/ical//2.0/EN
VERSION:2.0
CALSCALE:GREGORIAN
BEGIN:VEVENT
UID:bc777873d8123d6c4cc3f857beb38469
DTSTAMP:20260424T201144Z
SUMMARY:Shabbat Morning Musical Participatory Services with The HarmonEzers
DESCRIPTION:UJA Federation of Greater Toronto\nJewish Toronto Calendar\nhtt
 ps://jewishtoronto.com/calendar/shabbat-morning-musical-participatory-serv
 ices-with-the-harmonezers-1675188055\n\nOur celebrations of world Jewish m
 usic continue Shabbat morning with The HarmonEzers at our Musical Particip
 atory Service which will include a special sermon-in-song. We will conclud
 e the morning together with a Congregational kiddush. Everyone is welcome.
 \n\nJoin us in person at Beth Tzedec or via livestream at https://www.beth
 tzedec.tv.
DTSTART;TZID=America/Toronto:20230204T093000
DTEND;TZID=America/Toronto:20230204T120000
END:VEVENT
END:VCALENDAR
