BEGIN:VCALENDAR
PRODID:-//eluceo/ical//2.0/EN
VERSION:2.0
CALSCALE:GREGORIAN
BEGIN:VEVENT
UID:d261c964d4908092ec8724ad6ebfd7fd
DTSTAMP:20260421T121205Z
SUMMARY:Senior Prom x Lodzer 70th Anniversary Gala
DESCRIPTION:UJA Federation of Greater Toronto\nJewish Toronto Calendar\nhtt
 ps://jewishtoronto.com/calendar/senior-prom-x-lodzer-70th-anniversary-gala
 -1683569640\n\nPlease join us in celebrating the Lodzer Centre&#39\;s 70th
  Anniversary with a special "Senior Prom"\, an evening dedicated to Holoca
 ust survivors who never had the opportunity to experience their own prom. 
 All funds raised will go directly to the Lodzer Centre Congregation\, foun
 ded in 1953 by Holocaust survivors from Lodz\, Poland.
DTSTART;TZID=America/Toronto:20231029T173000
DTEND;TZID=America/Toronto:20231029T213000
END:VEVENT
END:VCALENDAR
