BEGIN:VCALENDAR
PRODID:-//eluceo/ical//2.0/EN
VERSION:2.0
CALSCALE:GREGORIAN
BEGIN:VEVENT
UID:a89c8f529ee4b07465d50b219835ca92
DTSTAMP:20260423T014557Z
SUMMARY:SAVE THE DATE! Israel Bonds - Israeli Wine Tasting
DESCRIPTION:UJA Federation of Greater Toronto\nJewish Toronto Calendar\nhtt
 ps://jewishtoronto.com/calendar/save-the-date-israel-bonds---israeli-wine-
 tasting-1671653586\n\nSAVE THE DATE! Israel Bonds / New Leadership Divisio
 n - Israeli Wine Tasting Details to be confirmed in the New Year
DTSTART;TZID=America/Toronto:20230322T190000
DTEND;TZID=America/Toronto:20230322T210000
END:VEVENT
END:VCALENDAR
