BEGIN:VCALENDAR
PRODID:-//eluceo/ical//2.0/EN
VERSION:2.0
CALSCALE:GREGORIAN
BEGIN:VEVENT
UID:58b4a5de83b1190344a9b54ce0293f7a
DTSTAMP:20260421T081938Z
SUMMARY:Ride for KCC
DESCRIPTION:UJA Federation of Greater Toronto\nJewish Toronto Calendar\nhtt
 ps://jewishtoronto.com/calendar/ride-for-kcc-1663862375\n\nAnnual bike rid
 e in support of Kayla&#039\;s Children Centre.
DTSTART;TZID=America/Toronto:20230910T060000
DTEND;TZID=America/Toronto:20230910T140000
END:VEVENT
END:VCALENDAR
